BEGIN:VCALENDAR
VERSION:2.0
PRODID:-//InvisionCommunity Events 4.7.23//EN
METHOD:PUBLISH
CALSCALE:GREGORIAN
REFRESH-INTERVAL:PT15M
X-PUBLISHED-TTL:PT15M
X-WR-CALNAME:All Calendars - The Sylvia Day Reader Community
NAME:All Calendars - The Sylvia Day Reader Community
BEGIN:VTIMEZONE
TZID:Europe/London
TZURL:http://tzurl.org/zoneinfo/Europe/London
X-LIC-LOCATION:Europe/London
BEGIN:DAYLIGHT
TZOFFSETFROM:+0000
TZOFFSETTO:+0100
TZNAME:BST
DTSTART:20150329T020000Z
RRULE:FREQ=YEARLY;BYMONTH=3;BYDAY=-1SU
END:DAYLIGHT
BEGIN:STANDARD
TZOFFSETFROM:+0100
TZOFFSETTO:+0000
TZNAME:GMT
DTSTART:20151025T020000Z
RRULE:FREQ=YEARLY;BYMONTH=10;BYDAY=-1SU
END:STANDARD
END:VTIMEZONE
BEGIN:VTIMEZONE
TZID:Europe/London
TZURL:http://tzurl.org/zoneinfo/Europe/London
X-LIC-LOCATION:Europe/London
BEGIN:DAYLIGHT
TZOFFSETFROM:+0000
TZOFFSETTO:+0100
TZNAME:BST
DTSTART:20110327T020000Z
RRULE:FREQ=YEARLY;BYMONTH=3;BYDAY=-1SU
END:DAYLIGHT
BEGIN:STANDARD
TZOFFSETFROM:+0100
TZOFFSETTO:+0000
TZNAME:GMT
DTSTART:20111030T020000Z
RRULE:FREQ=YEARLY;BYMONTH=10;BYDAY=-1SU
END:STANDARD
END:VTIMEZONE
BEGIN:VTIMEZONE
TZID:Europe/London
TZURL:http://tzurl.org/zoneinfo/Europe/London
X-LIC-LOCATION:Europe/London
BEGIN:DAYLIGHT
TZOFFSETFROM:+0000
TZOFFSETTO:+0100
TZNAME:BST
DTSTART:20100328T020000Z
RRULE:FREQ=YEARLY;BYMONTH=3;BYDAY=-1SU
END:DAYLIGHT
BEGIN:STANDARD
TZOFFSETFROM:+0100
TZOFFSETTO:+0000
TZNAME:GMT
DTSTART:20101031T020000Z
RRULE:FREQ=YEARLY;BYMONTH=10;BYDAY=-1SU
END:STANDARD
END:VTIMEZONE
BEGIN:VEVENT
SUMMARY:The Wicked Mafia - Hawaii
DTSTAMP:20150706T082126Z
SEQUENCE:0
UID:16-2-c06a338e6f8e08cb9be54807f5e0cc06@www.sylviaday.net
ORGANIZER;CN="admin":postmaster@sylviaday.net
DESCRIPTION:\nParty in Paradise with The Wicked Mafia! Come meet over 50
	 of your favorite bestselling romance authors.Ã‚Â Event Info: http://
	www.thewickedmafia.com/\n
DTSTART;VALUE=DATE:20150801
END:VEVENT
BEGIN:VEVENT
SUMMARY:RWA National Conference - NYC
DTSTAMP:20150706T080938Z
SEQUENCE:0
UID:15-2-c06a338e6f8e08cb9be54807f5e0cc06@www.sylviaday.net
ORGANIZER;CN="admin":postmaster@sylviaday.net
DESCRIPTION:\nJoin Sylvia at the 2015 RWA Conference at the New York Mar
	riottMarquis in Times Square\, being held in New York City\, July 2
	2Ã¢â‚¬â€œ25.\n\nTheRWA Conference is the place where career-focu
	sed romance writers meet\, mingle\, and get down to the business of being 
	an author.\n\nAt the conference\, career-focused romance writers can antic
	ipate:\n-Education and information\n-Networking with fellow writers\n-Inte
	raction with editors\, agents\, publishers\, booksellers\, and other roman
	ce publishing industry professionals\n\nPublic Book Signing: Wednesday\, J
	uly 22 at 5:30 Ã¢â‚¬â€œ 7:30 PMÃ‚Â Event Info: http://www.r
	wa.org/p/cm/ld/fid=538\n
DTSTART;VALUE=DATE:20150722
DTEND;VALUE=DATE:20150726
END:VEVENT
BEGIN:VEVENT
SUMMARY:Writers for New Orleans
DTSTAMP:20150706T080938Z
SEQUENCE:0
UID:13-2-c06a338e6f8e08cb9be54807f5e0cc06@www.sylviaday.net
ORGANIZER;CN="admin":postmaster@sylviaday.net
DESCRIPTION:\nHeather Graham's Writers for New Orleans strives to give t
	hat magic moment when something about writing clicks\, a venue in which ed
	itors\, readers\, writersÃ¢â‚¬â€œand friends and family along fo
	r the rideÃ¢â‚¬â€œenjoy a great learning experience\, as well as
	 a great time.Registration covers all events:\nFriday Ã¢â‚¬â€œ P
	anel discussions\, Welcome Party\nSaturday Ã¢â‚¬â€œ Breakfast bu
	ffet\, panel discussions\, breaks\, and Heather GrahamÃ¢â‚¬â„¢s 
	Slush Pile Players Dinner Theater\nSunday Ã¢â‚¬â€œ Panels\, edit
	or appointments\, tea with authors\, and book signingÃ‚Â Event Info: 
	http://www.writersforneworleans.com\n
DTSTART:20150904T160000Z
DTEND:20150907T000000Z
END:VEVENT
BEGIN:VEVENT
SUMMARY:Heart of Dixie ReadersÃ¢â‚¬â„¢ Appreciation Lunche
	on
DTSTAMP:20150426T051801Z
SEQUENCE:0
UID:12-2-c06a338e6f8e08cb9be54807f5e0cc06@www.sylviaday.net
ORGANIZER;CN="admin":postmaster@sylviaday.net
DESCRIPTION:Sylvia will be the keynote speaker at the the Heart of Dixie
	&rsquo\;s annual romance writers&rsquo\; luncheon on Saturday\, June 13\, 
	2015\, in Huntsville\, Alabama.Romance readers&nbsp\;will get&nbsp\;the ch
	ance to mingle with authors and fellow readers alike. In addition\, reader
	s will be given the opportunity to win fabulous door prizes and raffle bas
	kets\, and support a good cause by purchasing books at a charity book fair
	.\n
DTSTART:20150613T170000Z
DTEND:20150613T220000Z
END:VEVENT
BEGIN:VEVENT
SUMMARY:Book Expo America & BookCon
DTSTAMP:20150426T051423Z
SEQUENCE:0
UID:11-2-c06a338e6f8e08cb9be54807f5e0cc06@www.sylviaday.net
ORGANIZER;CN="admin":postmaster@sylviaday.net
DESCRIPTION:Book Expo America is the largest publishing event in North A
	merica. This year’s event promises to give you access to what’s new\, 
	what’s next\, and everything exciting in the world of books.Book signing
	: May 29 at 9 AM – Sylvia will be signing Premiere in the Romance Writer
	s of America booth.BookCon is an immersive experience that features intera
	ctive\, forward thinking content including Q&amp\;As with the hottest tale
	nt\, autographing sessions\, storytelling podcasts\, special screenings\, 
	literary quiz shows and so much more. At BookCon\, Fans will interact with
	 the authors\, publishers\, celebrities and creators of content that influ
	ence everything we read\, hear and see.Book signing: May 31 at 10:30 AM 
	– Sylvia will be signing Captivated by You in the Penguin Random House b
	ooth.\n
DTSTART;VALUE=DATE:20150529
DTEND;VALUE=DATE:20150601
END:VEVENT
BEGIN:VEVENT
SUMMARY:RT Booklovers Convention 2015
DTSTAMP:20150426T051228Z
SEQUENCE:0
UID:10-2-c06a338e6f8e08cb9be54807f5e0cc06@www.sylviaday.net
ORGANIZER;CN="admin":postmaster@sylviaday.net
DESCRIPTION:Join Sylvia in Dallas\, TX at the 2015 RT Convention\, the b
	ook lovers party of the year\, where you can attend workshops\, get tons o
	f books\, and mingle with over 800 authors. &nbsp\;\n
DTSTART;VALUE=DATE:20150513
DTEND;VALUE=DATE:20150517
END:VEVENT
BEGIN:VEVENT
SUMMARY:PRIDE AND PLEASURE
DTSTAMP:20100705T200433Z
SEQUENCE:1
UID:6-2-c06a338e6f8e08cb9be54807f5e0cc06@www.sylviaday.net
ORGANIZER;CN="Sylvia Day":postmaster@sylviaday.net
DESCRIPTION:Wealth has its dangers&hellip\;\n\nThere are disadvantages t
	o being an heiress\, as Eliza Martin knows well. Fortune hunters flock to 
	her\, acquaintances lie and pander\, and lately\, someone is engineering &
	ldquo\;accidents&rdquo\; to propel her to the altar. But Eliza will not be
	 bullied\, and she will get to the bottom of this plot. All she needs is a
	 man to infiltrate her assemblage of suitors and find the culprit. Someone
	 not easily noticed\; a proficient dancer\, quiet\, and even-tempered.\n\n
	&hellip\;so do certain men\n\nThief-taker Jasper Bond is entirely too larg
	e\, too handsome\, and too dangerous. Who would believe that an intellectu
	al like Eliza would be seduced by a man of action? But the combination of 
	her stubbornness and the mystery makes the case one Jasper can&rsquo\;t re
	sist. Client satisfaction is a point of pride and it&rsquo\;s his pleasure
	 to prove he&rsquo\;s just the man she needs after all&hellip\;\n\nRead mo
	re...\n
DTSTART:20110124T180000Z
END:VEVENT
BEGIN:VEVENT
SUMMARY:THE MAMMOTH BOOK OF PARANORMAL ROMANCE 2
DTSTAMP:20100705T200248Z
SEQUENCE:1
UID:4-2-c06a338e6f8e08cb9be54807f5e0cc06@www.sylviaday.net
ORGANIZER;CN="Sylvia Day":postmaster@sylviaday.net
DESCRIPTION: Another fabulous collection of Paranormal Romance stories i
	n the bestselling Mammoth series.\n\nIf love transcends all boundaries\, p
	aranormal romance is its natural conclusion.\n\nThis exciting follow-up to
	 the successful Mammoth Book of Paranormal Romance contains more than twen
	ty stories to take you to another time and place. Including the best names
	 in the field\, this collection is filled with mythical beasts\, magical c
	reatures of all shapes and sizes\, handsome ghosts\, angels\, and mortals 
	with extra-sensory perception that play out their extraordinary desires.\n
	\nIncludes stories from Lara Adrian\, Ava Gray\, Sharon Shinn\, Robin D. O
	wens\, Karen Chance and many more&hellip\;\n\nRead more...\n
DTSTART:20101004T190000Z
END:VEVENT
BEGIN:VEVENT
SUMMARY:GOT A MINUTE? Reissue
DTSTAMP:20100705T194236Z
SEQUENCE:1
UID:5-2-c06a338e6f8e08cb9be54807f5e0cc06@www.sylviaday.net
ORGANIZER;CN="Sylvia Day":postmaster@sylviaday.net
DESCRIPTION:Everyone loves a quickie. A breathless\, clothes-in-a-heap r
	omp or a naughty tease before the elevator doors slide open. Even better w
	hen it&rsquo\;s a quick sex story you can read again and again. &ldquo\;Tu
	rn me on in 50 words or less and I&rsquo\;ll follow you home\,&rdquo\; wri
	tes editor and erotica aficionado Alison Tyler about Got a Minute? The 60 
	short and spicy stories in Got a Minute? will rev your motor and leave you
	 aching for more. When it comes to hot sex\, who doesn&rsquo\;t have a min
	ute?\n\nRead more...\n
DTSTART:20100731T190000Z
END:VEVENT
END:VCALENDAR
